View In:
ArcGIS JavaScript
ArcGIS Online Map Viewer
ArcGIS Earth
ArcMap
View Footprint In:
ArcGIS Online Map Viewer
Service Description: OtherImage/cvmsre_nsw_2018
Name: OtherImage/cvmsre_nsw_2018
Description:
Single Fused Map Cache: false
Extent:
XMin: 8614100
YMin: 3964940
XMax: 10001520
YMax: 5079230
Spatial Reference: 3308
(3308)
Initial Extent:
XMin: 8614100
YMin: 3964940
XMax: 10001520
YMax: 5079230
Spatial Reference: 3308
(3308)
Full Extent:
XMin: 8614100
YMin: 3964940
XMax: 10001520
YMax: 5079230
Spatial Reference: 3308
(3308)
Pixel Size X: 10.0
Pixel Size Y: 10.0
Band Count: 4
Pixel Type: S16
RasterFunction Infos: {"rasterFunctionInfos": [{
"name": "None",
"description": "",
"help": ""
}]}
Mensuration Capabilities: Basic
Has Histograms: true
Has Colormap: false
Has Multi Dimensions : false
Rendering Rule:
Min Scale: 0
Max Scale: 0
Copyright Text:
Service Data Type: esriImageServiceDataTypeGeneric
Min Values: 0, 0, 0, 0
Max Values: 11664, 7640, 7817, 8393
Mean Values: 540.415945856876, 721.17734239354, 1074.7988807974, 2005.4142298612
Standard Deviation Values: 291.14822522494006, 335.41120556418, 601.39741172055, 682.23645891845
Object ID Field:
Fields:
None
Default Mosaic Method: Center
Allowed Mosaic Methods:
SortField:
SortValue: null
Mosaic Operator: First
Default Compression Quality: 75
Default Resampling Method: Bilinear
Max Record Count: null
Max Image Height: 4100
Max Image Width: 15000
Max Download Image Count: null
Max Mosaic Image Count: null
Allow Raster Function: true
Allow Copy: null
Allow Analysis: null
Allow Compute TiePoints: false
Supports Statistics: false
Supports Advanced Queries: false
Use StandardizedQueries: true
Raster Type Infos:
Name: Raster Dataset
Description: Supports all ArcGIS Raster Datasets
Help:
Has Raster Attribute Table: false
Edit Fields Info: null
Ownership Based AccessControl For Rasters: null
Child Resources:
Info
Histograms
Key Properties
Legend
Raster Function Infos
Supported Operations:
Export Image
Identify
Measure
Compute Histograms
Compute Statistics Histograms
Get Samples
Compute Class Statistics
Query Boundary
Compute Pixel Location
Validate
Project